BEGIN:VCALENDAR
VERSION:2.0
PRODID:-//Hofgemeinschaft Kotthausen - ECPv6.15.17//NONSGML v1.0//EN
CALSCALE:GREGORIAN
METHOD:PUBLISH
X-ORIGINAL-URL:https://www.hof-kotthausen.de
X-WR-CALDESC:Veranstaltungen für Hofgemeinschaft Kotthausen
REFRESH-INTERVAL;VALUE=DURATION:PT1H
X-Robots-Tag:noindex
X-PUBLISHED-TTL:PT1H
BEGIN:VTIMEZONE
TZID:Europe/Berlin
BEGIN:DAYLIGHT
TZOFFSETFROM:+0100
TZOFFSETTO:+0200
TZNAME:CEST
DTSTART:20250330T010000
END:DAYLIGHT
BEGIN:STANDARD
TZOFFSETFROM:+0200
TZOFFSETTO:+0100
TZNAME:CET
DTSTART:20251026T010000
END:STANDARD
BEGIN:DAYLIGHT
TZOFFSETFROM:+0100
TZOFFSETTO:+0200
TZNAME:CEST
DTSTART:20260329T010000
END:DAYLIGHT
BEGIN:STANDARD
TZOFFSETFROM:+0200
TZOFFSETTO:+0100
TZNAME:CET
DTSTART:20261025T010000
END:STANDARD
BEGIN:DAYLIGHT
TZOFFSETFROM:+0100
TZOFFSETTO:+0200
TZNAME:CEST
DTSTART:20270328T010000
END:DAYLIGHT
BEGIN:STANDARD
TZOFFSETFROM:+0200
TZOFFSETTO:+0100
TZNAME:CET
DTSTART:20271031T010000
END:STANDARD
END:VTIMEZONE
BEGIN:VEVENT
DTSTART;TZID=Europe/Berlin:20260627T093000
DTEND;TZID=Europe/Berlin:20260627T150000
DTSTAMP:20260420T104150
CREATED:20260111T200527Z
LAST-MODIFIED:20260111T200529Z
UID:2260-1782552600-1782572400@www.hof-kotthausen.de
SUMMARY:Schaffenssamstag 27. Juni
DESCRIPTION:Jeden zweiten und vierten Samstag im Monat findet der „Schaffenssamstag“ statt\, wo wir HofbewohnerInnen und Freunde uns den anfallenden Hofbelangen annehmen. Die Sanierung von dem Baudenkmal „Haus 4“ ist derzeit unser vorrangiges Projekt.Wir starten den gemeinsamen Arbeitseinsatz um 09:30 Uhr um 13:30 gibt es ein gemeinschaftliches Mittagessen\, danach ist unser Schaffenssamstag beendet. \n\n\n\nWer Interesse am Werdegang unserer Projekte hat und einen handfesten Beitrag leisten möchte\, ist herzlich willkommen. \n\n\n\nBitte bringt je nach Wetter regenfeste Kleidung oder Arbeitskleidung\, Arbeitsschuhe bzw. Gummistiefel und Handschuhe mit. \n\n\n\nDamit wir für alle HelferInnen genügend Essen parat haben\, meldet euch bitte per Mail an faber.marie@web.de\, wenn ihr mit dabei sein wollt.
URL:https://www.hof-kotthausen.de/event/schaffenssamstag-27-juni/
CATEGORIES:Allgemein
END:VEVENT
BEGIN:VEVENT
DTSTART;TZID=Europe/Berlin:20260711T093000
DTEND;TZID=Europe/Berlin:20260711T150000
DTSTAMP:20260420T104150
CREATED:20260111T200657Z
LAST-MODIFIED:20260111T200658Z
UID:2262-1783762200-1783782000@www.hof-kotthausen.de
SUMMARY:Schaffenssamstag 11. Juli
DESCRIPTION:Jeden zweiten und vierten Samstag im Monat findet der „Schaffenssamstag“ statt\, wo wir HofbewohnerInnen und Freunde uns den anfallenden Hofbelangen annehmen. Die Sanierung von dem Baudenkmal „Haus 4“ ist derzeit unser vorrangiges Projekt.Wir starten den gemeinsamen Arbeitseinsatz um 09:30 Uhr um 13:30 gibt es ein gemeinschaftliches Mittagessen\, danach ist unser Schaffenssamstag beendet. \n\n\n\nWer Interesse am Werdegang unserer Projekte hat und einen handfesten Beitrag leisten möchte\, ist herzlich willkommen. \n\n\n\nBitte bringt je nach Wetter regenfeste Kleidung oder Arbeitskleidung\, Arbeitsschuhe bzw. Gummistiefel und Handschuhe mit. \n\n\n\nDamit wir für alle HelferInnen genügend Essen parat haben\, meldet euch bitte per Mail an faber.marie@web.de\, wenn ihr mit dabei sein wollt.
URL:https://www.hof-kotthausen.de/event/schaffenssamstag-11-juli/
CATEGORIES:Allgemein
END:VEVENT
END:VCALENDAR